BEGIN:VCALENDAR
VERSION:2.0
PRODID:-//SMwSR - ECPv5.4.0.2//NONSGML v1.0//EN
CALSCALE:GREGORIAN
METHOD:PUBLISH
X-WR-CALNAME:SMwSR
X-ORIGINAL-URL:https://northolt.org
X-WR-CALDESC:Events for SMwSR
BEGIN:VTIMEZONE
TZID:Europe/London
BEGIN:DAYLIGHT
TZOFFSETFROM:+0000
TZOFFSETTO:+0100
TZNAME:BST
DTSTART:20180325T010000
END:DAYLIGHT
BEGIN:STANDARD
TZOFFSETFROM:+0100
TZOFFSETTO:+0000
TZNAME:GMT
DTSTART:20181028T010000
END:STANDARD
END:VTIMEZONE
BEGIN:VEVENT
DTSTART;TZID=Europe/London:20180623T120000
DTEND;TZID=Europe/London:20180623T160000
DTSTAMP:20260421T064015
CREATED:20180429T131341Z
LAST-MODIFIED:20180429T131341Z
UID:1738-1529755200-1529769600@northolt.org
SUMMARY:Summer Fair
DESCRIPTION:Please join us in the Memorial Hall and on the green outside (weather permitting) for our annual summer fair. With a variety of stalls\, including the ever-popular tombola\, BBQ\, book and toy sale\, plus refreshments and more\, it’s always a fun day out for the family.
URL:https://northolt.org/event/summer-fair-3/
LOCATION:Memorial Hall\, Ealing Road\, Northolt\, UB5 6AA\, United Kingdom
CATEGORIES:Community Event
END:VEVENT
END:VCALENDAR