BEGIN:VCALENDAR
VERSION:2.0
PRODID:-//SMwSR - ECPv5.4.0.2//NONSGML v1.0//EN
CALSCALE:GREGORIAN
METHOD:PUBLISH
X-WR-CALNAME:SMwSR
X-ORIGINAL-URL:https://northolt.org
X-WR-CALDESC:Events for SMwSR
BEGIN:VTIMEZONE
TZID:Europe/London
BEGIN:DAYLIGHT
TZOFFSETFROM:+0000
TZOFFSETTO:+0100
TZNAME:BST
DTSTART:20180325T010000
END:DAYLIGHT
BEGIN:STANDARD
TZOFFSETFROM:+0100
TZOFFSETTO:+0000
TZNAME:GMT
DTSTART:20181028T010000
END:STANDARD
END:VTIMEZONE
BEGIN:VEVENT
DTSTART;TZID=Europe/London:20180617T100000
DTEND;TZID=Europe/London:20180617T110000
DTSTAMP:20260421T043010
CREATED:20180429T131122Z
LAST-MODIFIED:20180429T131122Z
UID:1736-1529229600-1529233200@northolt.org
SUMMARY:St Richard's Patronal Festival
DESCRIPTION:Join us as we celebrate the Patronal of St Richard\, one of our patron saints.
URL:https://northolt.org/event/st-richards-patronal-festival/
LOCATION:St Richard’s\, Sussex Crescent\, Northolt\, UB5 4DR\, United Kingdom
CATEGORIES:Worship
END:VEVENT
END:VCALENDAR