BEGIN:VCALENDAR
VERSION:2.0
PRODID:-//SMwSR - ECPv5.4.0.2//NONSGML v1.0//EN
CALSCALE:GREGORIAN
METHOD:PUBLISH
X-WR-CALNAME:SMwSR
X-ORIGINAL-URL:https://northolt.org
X-WR-CALDESC:Events for SMwSR
BEGIN:VTIMEZONE
TZID:Europe/London
BEGIN:DAYLIGHT
TZOFFSETFROM:+0000
TZOFFSETTO:+0100
TZNAME:BST
DTSTART:20190331T010000
END:DAYLIGHT
BEGIN:STANDARD
TZOFFSETFROM:+0100
TZOFFSETTO:+0000
TZNAME:GMT
DTSTART:20191027T010000
END:STANDARD
END:VTIMEZONE
BEGIN:VEVENT
DTSTART;TZID=Europe/London:20190616T140000
DTEND;TZID=Europe/London:20190616T180000
DTSTAMP:20260421T043204
CREATED:20190515T062427Z
LAST-MODIFIED:20190601T095322Z
UID:2070-1560693600-1560708000@northolt.org
SUMMARY:St Richard's Patronal Festival (at St Richard's)
DESCRIPTION:Join us for an open afternoon at St Richard’s Church on the Racecourse Estate with coffee\, cake and a BBQ followed by a communion service at 5pm as we celebrate one of our patron saints\, Saint Richard.
URL:https://northolt.org/event/st-richards-patronal-festival-at-st-richards/
LOCATION:St Richard’s\, Sussex Crescent\, Northolt\, UB5 4DR\, United Kingdom
CATEGORIES:Community Event,Worship
END:VEVENT
END:VCALENDAR