BEGIN:VCALENDAR
VERSION:2.0
PRODID:-//SMwSR - ECPv5.4.0.2//NONSGML v1.0//EN
CALSCALE:GREGORIAN
METHOD:PUBLISH
X-WR-CALNAME:SMwSR
X-ORIGINAL-URL:https://northolt.org
X-WR-CALDESC:Events for SMwSR
BEGIN:VTIMEZONE
TZID:Europe/London
BEGIN:DAYLIGHT
TZOFFSETFROM:+0000
TZOFFSETTO:+0100
TZNAME:BST
DTSTART:20190331T010000
END:DAYLIGHT
BEGIN:STANDARD
TZOFFSETFROM:+0100
TZOFFSETTO:+0000
TZNAME:GMT
DTSTART:20191027T010000
END:STANDARD
END:VTIMEZONE
BEGIN:VEVENT
DTSTART;TZID=Europe/London:20190602T123000
DTEND;TZID=Europe/London:20190602T133000
DTSTAMP:20260421T053646
CREATED:20190515T062923Z
LAST-MODIFIED:20190515T062923Z
UID:2072-1559478600-1559482200@northolt.org
SUMMARY:Reconvened APCM
DESCRIPTION:Our Annual Parochial Church Meeting reconvenes after the service on Sunday 2nd June to review our accounts with our external auditor. Please stay after the service to join us.
URL:https://northolt.org/event/reconvened-apcm/
LOCATION:St Mary’s Church\, Ealing Road\, Northolt\, UB5 6AA\, United Kingdom
CATEGORIES:Worship
END:VEVENT
END:VCALENDAR