BEGIN:VCALENDAR
VERSION:2.0
PRODID:-//SMwSR - ECPv5.4.0.2//NONSGML v1.0//EN
CALSCALE:GREGORIAN
METHOD:PUBLISH
X-WR-CALNAME:SMwSR
X-ORIGINAL-URL:https://northolt.org
X-WR-CALDESC:Events for SMwSR
BEGIN:VTIMEZONE
TZID:Europe/London
BEGIN:DAYLIGHT
TZOFFSETFROM:+0000
TZOFFSETTO:+0100
TZNAME:BST
DTSTART:20190331T010000
END:DAYLIGHT
BEGIN:STANDARD
TZOFFSETFROM:+0100
TZOFFSETTO:+0000
TZNAME:GMT
DTSTART:20191027T010000
END:STANDARD
END:VTIMEZONE
BEGIN:VEVENT
DTSTART;TZID=Europe/London:20191110T123000
DTEND;TZID=Europe/London:20191110T140000
DTSTAMP:20260421T014010
CREATED:20191016T193528Z
LAST-MODIFIED:20191016T193528Z
UID:2259-1573389000-1573394400@northolt.org
SUMMARY:PCC Meeting
DESCRIPTION:Our Parochial Church Council (aka the PCC) will be meeting after the service on Sunday.
URL:https://northolt.org/event/pcc-meeting-4/
LOCATION:Memorial Hall\, Ealing Road\, Northolt\, UB5 6AA\, United Kingdom
END:VEVENT
END:VCALENDAR