BEGIN:VCALENDAR
VERSION:2.0
PRODID:-//SMwSR - ECPv5.4.0.2//NONSGML v1.0//EN
CALSCALE:GREGORIAN
METHOD:PUBLISH
X-WR-CALNAME:SMwSR
X-ORIGINAL-URL:https://northolt.org
X-WR-CALDESC:Events for SMwSR
BEGIN:VTIMEZONE
TZID:Europe/London
BEGIN:DAYLIGHT
TZOFFSETFROM:+0000
TZOFFSETTO:+0100
TZNAME:BST
DTSTART:20170326T010000
END:DAYLIGHT
BEGIN:STANDARD
TZOFFSETFROM:+0100
TZOFFSETTO:+0000
TZNAME:GMT
DTSTART:20171029T010000
END:STANDARD
END:VTIMEZONE
BEGIN:VEVENT
DTSTART;TZID=Europe/London:20171203T120000
DTEND;TZID=Europe/London:20171203T170000
DTSTAMP:20260420T234543
CREATED:20171001T205037Z
LAST-MODIFIED:20171001T205037Z
UID:1455-1512302400-1512320400@northolt.org
SUMMARY:Parish Christmas Lunch
DESCRIPTION:Join us for our annual Christmas lunch at the Crown Pub in Northolt. This is a purely social occasion for people across the parish to get together and celebrate the festive season in good company. \nPlease contact us if you’d like to join us – all are welcome (up to the maximum seating capacity of the pub!).
URL:https://northolt.org/event/parish-christmas-lunch/
LOCATION:The Crown Pub\, Ealing Road\, Northolt\, Middlesex\, UB5 6AA\, United Kingdom
CATEGORIES:Community Event
END:VEVENT
END:VCALENDAR