BEGIN:VCALENDAR
VERSION:2.0
PRODID:-//SMwSR - ECPv5.4.0.2//NONSGML v1.0//EN
CALSCALE:GREGORIAN
METHOD:PUBLISH
X-WR-CALNAME:SMwSR
X-ORIGINAL-URL:https://northolt.org
X-WR-CALDESC:Events for SMwSR
BEGIN:VTIMEZONE
TZID:Europe/London
BEGIN:DAYLIGHT
TZOFFSETFROM:+0000
TZOFFSETTO:+0100
TZNAME:BST
DTSTART:20190331T010000
END:DAYLIGHT
BEGIN:STANDARD
TZOFFSETFROM:+0100
TZOFFSETTO:+0000
TZNAME:GMT
DTSTART:20191027T010000
END:STANDARD
END:VTIMEZONE
BEGIN:VEVENT
DTSTART;TZID=Europe/London:20190223T090000
DTEND;TZID=Europe/London:20190223T120000
DTSTAMP:20260421T093510
CREATED:20190204T164540Z
LAST-MODIFIED:20190204T164540Z
UID:1974-1550912400-1550923200@northolt.org
SUMMARY:Monthly churchyard maintenance and groundswork
DESCRIPTION:Come along and join the team for a self-funded breakfast at the Crown pub at 9am\, with the work in St Mary’s churchyard starting at 10am. No experience or specialist skills required\, but wear sturdy footwear and if you have a pair of gardening gloves\, please bring those along.
URL:https://northolt.org/event/monthly-churchyard-maintenance-and-groundswork/
LOCATION:St Mary’s Church\, Ealing Road\, Northolt\, UB5 6AA\, United Kingdom
CATEGORIES:Community Event
END:VEVENT
END:VCALENDAR