BEGIN:VCALENDAR
VERSION:2.0
PRODID:-//SMwSR - ECPv5.4.0.2//NONSGML v1.0//EN
CALSCALE:GREGORIAN
METHOD:PUBLISH
X-WR-CALNAME:SMwSR
X-ORIGINAL-URL:https://northolt.org
X-WR-CALDESC:Events for SMwSR
BEGIN:VTIMEZONE
TZID:Europe/London
BEGIN:DAYLIGHT
TZOFFSETFROM:+0000
TZOFFSETTO:+0100
TZNAME:BST
DTSTART:20170326T010000
END:DAYLIGHT
BEGIN:STANDARD
TZOFFSETFROM:+0100
TZOFFSETTO:+0000
TZNAME:GMT
DTSTART:20171029T010000
END:STANDARD
END:VTIMEZONE
BEGIN:VEVENT
DTSTART;TZID=Europe/London:20171215T173000
DTEND;TZID=Europe/London:20171215T183000
DTSTAMP:20260420T224853
CREATED:20171116T165036Z
LAST-MODIFIED:20171116T165036Z
UID:1595-1513359000-1513362600@northolt.org
SUMMARY:Mince Pie give-away
DESCRIPTION:To say ‘Happy Christmas’ to our community\, we will be giving out mince pies and chocolates to commuters at Northolt Station.
URL:https://northolt.org/event/mince-pie-give-away/
END:VEVENT
END:VCALENDAR