BEGIN:VCALENDAR
VERSION:2.0
PRODID:-//SMwSR - ECPv5.4.0.2//NONSGML v1.0//EN
CALSCALE:GREGORIAN
METHOD:PUBLISH
X-WR-CALNAME:SMwSR
X-ORIGINAL-URL:https://northolt.org
X-WR-CALDESC:Events for SMwSR
BEGIN:VTIMEZONE
TZID:Europe/London
BEGIN:DAYLIGHT
TZOFFSETFROM:+0000
TZOFFSETTO:+0100
TZNAME:BST
DTSTART:20160327T010000
END:DAYLIGHT
BEGIN:STANDARD
TZOFFSETFROM:+0100
TZOFFSETTO:+0000
TZNAME:GMT
DTSTART:20161030T010000
END:STANDARD
END:VTIMEZONE
BEGIN:VEVENT
DTSTART;TZID=Europe/London:20161210T100000
DTEND;TZID=Europe/London:20161210T110000
DTSTAMP:20260421T022114
CREATED:20161031T205833Z
LAST-MODIFIED:20161031T210125Z
UID:1215-1481364000-1481367600@northolt.org
SUMMARY:Messy Church
DESCRIPTION:Please join us at St Richard’s for Christmas-themed activities and service\, which are aim particularly to suit families. All are welcome and refreshments are included.
URL:https://northolt.org/event/messy-church/
LOCATION:St Richard’s\, Sussex Crescent\, Northolt\, UB5 4DR\, United Kingdom
CATEGORIES:Worship
END:VEVENT
END:VCALENDAR