BEGIN:VCALENDAR
VERSION:2.0
PRODID:-//SMwSR - ECPv5.4.0.2//NONSGML v1.0//EN
CALSCALE:GREGORIAN
METHOD:PUBLISH
X-WR-CALNAME:SMwSR
X-ORIGINAL-URL:https://northolt.org
X-WR-CALDESC:Events for SMwSR
BEGIN:VTIMEZONE
TZID:Europe/London
BEGIN:DAYLIGHT
TZOFFSETFROM:+0000
TZOFFSETTO:+0100
TZNAME:BST
DTSTART:20180325T010000
END:DAYLIGHT
BEGIN:STANDARD
TZOFFSETFROM:+0100
TZOFFSETTO:+0000
TZNAME:GMT
DTSTART:20181028T010000
END:STANDARD
END:VTIMEZONE
BEGIN:VEVENT
DTSTART;TZID=Europe/London:20180525T190000
DTEND;TZID=Europe/London:20180525T220000
DTSTAMP:20260421T030133
CREATED:20180429T131757Z
LAST-MODIFIED:20180429T131757Z
UID:1742-1527274800-1527285600@northolt.org
SUMMARY:Ladies' Evening
DESCRIPTION:Join the ladies of the parish for tea\, coffee\, cakes and chat. Venue TBC\, but speak to one of the ladies in church to find out more.
URL:https://northolt.org/event/ladies-evening/
LOCATION:TBC
CATEGORIES:Community Event
END:VEVENT
END:VCALENDAR