BEGIN:VCALENDAR
VERSION:2.0
PRODID:-//SMwSR - ECPv5.4.0.2//NONSGML v1.0//EN
CALSCALE:GREGORIAN
METHOD:PUBLISH
X-WR-CALNAME:SMwSR
X-ORIGINAL-URL:https://northolt.org
X-WR-CALDESC:Events for SMwSR
BEGIN:VTIMEZONE
TZID:Europe/London
BEGIN:DAYLIGHT
TZOFFSETFROM:+0000
TZOFFSETTO:+0100
TZNAME:BST
DTSTART:20180325T010000
END:DAYLIGHT
BEGIN:STANDARD
TZOFFSETFROM:+0100
TZOFFSETTO:+0000
TZNAME:GMT
DTSTART:20181028T010000
END:STANDARD
END:VTIMEZONE
BEGIN:VEVENT
DTSTART;TZID=Europe/London:20180527T100000
DTEND;TZID=Europe/London:20180527T110000
DTSTAMP:20260421T014123
CREATED:20180414T154802Z
LAST-MODIFIED:20180414T154802Z
UID:1712-1527415200-1527418800@northolt.org
SUMMARY:Jacque's Last Service at St Mary's
DESCRIPTION:Join us on the 27th of May as our ordinand\, Jacque\, celebrates our last service with us before beginning her curacy in another church. This will be followed by a bring and share lunch in the Memorial Hall.
URL:https://northolt.org/event/jacques-last-service-at-st-marys/
LOCATION:St Mary’s Church\, Ealing Road\, Northolt\, UB5 6AA\, United Kingdom
CATEGORIES:Worship
END:VEVENT
END:VCALENDAR