BEGIN:VCALENDAR
VERSION:2.0
PRODID:-//SMwSR - ECPv5.4.0.2//NONSGML v1.0//EN
CALSCALE:GREGORIAN
METHOD:PUBLISH
X-WR-CALNAME:SMwSR
X-ORIGINAL-URL:https://northolt.org
X-WR-CALDESC:Events for SMwSR
BEGIN:VTIMEZONE
TZID:Europe/London
BEGIN:DAYLIGHT
TZOFFSETFROM:+0000
TZOFFSETTO:+0100
TZNAME:BST
DTSTART:20160327T010000
END:DAYLIGHT
BEGIN:STANDARD
TZOFFSETFROM:+0100
TZOFFSETTO:+0000
TZNAME:GMT
DTSTART:20161030T010000
END:STANDARD
END:VTIMEZONE
BEGIN:VEVENT
DTSTART;TZID=Europe/London:20160326T100000
DTEND;TZID=Europe/London:20160326T100000
DTSTAMP:20260421T053200
CREATED:20160311T142137Z
LAST-MODIFIED:20160311T142224Z
UID:266-1458986400-1458986400@northolt.org
SUMMARY:Holy Saturday
DESCRIPTION:S Mary’s Easter clean (all ages and abilities need!)
URL:https://northolt.org/event/holy-saturday/
LOCATION:St Mary’s Church\, Ealing Road\, Northolt\, UB5 6AA\, United Kingdom
END:VEVENT
END:VCALENDAR