BEGIN:VCALENDAR
VERSION:2.0
PRODID:-//SMwSR - ECPv5.4.0.2//NONSGML v1.0//EN
CALSCALE:GREGORIAN
METHOD:PUBLISH
X-WR-CALNAME:SMwSR
X-ORIGINAL-URL:https://northolt.org
X-WR-CALDESC:Events for SMwSR
BEGIN:VTIMEZONE
TZID:Europe/London
BEGIN:DAYLIGHT
TZOFFSETFROM:+0000
TZOFFSETTO:+0100
TZNAME:BST
DTSTART:20190331T010000
END:DAYLIGHT
BEGIN:STANDARD
TZOFFSETFROM:+0100
TZOFFSETTO:+0000
TZNAME:GMT
DTSTART:20191027T010000
END:STANDARD
END:VTIMEZONE
BEGIN:VEVENT
DTSTART;TZID=Europe/London:20190420T100000
DTEND;TZID=Europe/London:20190420T170000
DTSTAMP:20260421T105520
CREATED:20190407T162104Z
LAST-MODIFIED:20190407T162104Z
UID:2027-1555754400-1555779600@northolt.org
SUMMARY:Holy Saturday the Big Easter Clean!
DESCRIPTION:Please come along to St Mary’s from 10am for as long as you can to help us to clean the church before our Easter celebrations – all ages and abilities welcomed\, and coffee and doughnuts will be provided!
URL:https://northolt.org/event/holy-saturday-the-big-easter-clean/
LOCATION:St Mary’s Church\, Ealing Road\, Northolt\, UB5 6AA\, United Kingdom
CATEGORIES:Community Event
END:VEVENT
END:VCALENDAR