BEGIN:VCALENDAR
VERSION:2.0
PRODID:-//SMwSR - ECPv5.4.0.2//NONSGML v1.0//EN
CALSCALE:GREGORIAN
METHOD:PUBLISH
X-WR-CALNAME:SMwSR
X-ORIGINAL-URL:https://northolt.org
X-WR-CALDESC:Events for SMwSR
BEGIN:VTIMEZONE
TZID:Europe/London
BEGIN:DAYLIGHT
TZOFFSETFROM:+0000
TZOFFSETTO:+0100
TZNAME:BST
DTSTART:20160327T010000
END:DAYLIGHT
BEGIN:STANDARD
TZOFFSETFROM:+0100
TZOFFSETTO:+0000
TZNAME:GMT
DTSTART:20161030T010000
END:STANDARD
END:VTIMEZONE
BEGIN:VEVENT
DTSTART;TZID=Europe/London:20160325T100000
DTEND;TZID=Europe/London:20160325T130000
DTSTAMP:20260421T030428
CREATED:20160311T125804Z
LAST-MODIFIED:20160311T130143Z
UID:261-1458900000-1458910800@northolt.org
SUMMARY:Good Friday 11am
DESCRIPTION:Meet at the clock tower and walk to the hill\, meeting local churches for 12 (St Mary’s open for quiet prayer from 12)
URL:https://northolt.org/event/good-friday-walk-and-quiet-prayer/
LOCATION:Clock Tower
END:VEVENT
END:VCALENDAR