BEGIN:VCALENDAR
VERSION:2.0
PRODID:-//SMwSR - ECPv5.4.0.2//NONSGML v1.0//EN
CALSCALE:GREGORIAN
METHOD:PUBLISH
X-WR-CALNAME:SMwSR
X-ORIGINAL-URL:https://northolt.org
X-WR-CALDESC:Events for SMwSR
BEGIN:VTIMEZONE
TZID:Europe/London
BEGIN:DAYLIGHT
TZOFFSETFROM:+0000
TZOFFSETTO:+0100
TZNAME:BST
DTSTART:20210328T010000
END:DAYLIGHT
BEGIN:STANDARD
TZOFFSETFROM:+0100
TZOFFSETTO:+0000
TZNAME:GMT
DTSTART:20211031T010000
END:STANDARD
END:VTIMEZONE
BEGIN:VEVENT
DTSTART;TZID=Europe/London:20211224T210000
DTEND;TZID=Europe/London:20211224T220000
DTSTAMP:20260420T170352
CREATED:20211215T204238Z
LAST-MODIFIED:20211215T204238Z
UID:8545-1640379600-1640383200@northolt.org
SUMMARY:First Mass of Christmas
DESCRIPTION:This year\, instead of Midnight Mass\, we will celebrate the First Mass of Christmas at 9pm on Christmas Eve.
URL:https://northolt.org/event/first-mass-of-christmas/
LOCATION:St Mary’s Church\, Ealing Road\, Northolt\, UB5 6AA\, United Kingdom
CATEGORIES:Worship
END:VEVENT
END:VCALENDAR