BEGIN:VCALENDAR
VERSION:2.0
PRODID:-//SMwSR - ECPv5.4.0.2//NONSGML v1.0//EN
CALSCALE:GREGORIAN
METHOD:PUBLISH
X-WR-CALNAME:SMwSR
X-ORIGINAL-URL:https://northolt.org
X-WR-CALDESC:Events for SMwSR
BEGIN:VTIMEZONE
TZID:Europe/London
BEGIN:DAYLIGHT
TZOFFSETFROM:+0000
TZOFFSETTO:+0100
TZNAME:BST
DTSTART:20180325T010000
END:DAYLIGHT
BEGIN:STANDARD
TZOFFSETFROM:+0100
TZOFFSETTO:+0000
TZNAME:GMT
DTSTART:20181028T010000
END:STANDARD
END:VTIMEZONE
BEGIN:VEVENT
DTSTART;TZID=Europe/London:20180429T100000
DTEND;TZID=Europe/London:20180429T110000
DTSTAMP:20260421T000226
CREATED:20180414T154613Z
LAST-MODIFIED:20180414T154613Z
UID:1710-1524996000-1524999600@northolt.org
SUMMARY:Confirmation Service
DESCRIPTION:Join us for a confirmation service on April 29th with the Right Reverend Pete Broadbent\, Bishop of Willesden. This will be followed with a bring and share lunch at the Memorial Hall as we celebrate with those who have chosen to reaffirm the promises that were made during their baptism.
URL:https://northolt.org/event/confirmation-service/
LOCATION:St Mary’s Church\, Ealing Road\, Northolt\, UB5 6AA\, United Kingdom
CATEGORIES:Worship
END:VEVENT
END:VCALENDAR