BEGIN:VCALENDAR
VERSION:2.0
PRODID:-//SMwSR - ECPv5.4.0.2//NONSGML v1.0//EN
CALSCALE:GREGORIAN
METHOD:PUBLISH
X-WR-CALNAME:SMwSR
X-ORIGINAL-URL:https://northolt.org
X-WR-CALDESC:Events for SMwSR
BEGIN:VTIMEZONE
TZID:Europe/London
BEGIN:DAYLIGHT
TZOFFSETFROM:+0000
TZOFFSETTO:+0100
TZNAME:BST
DTSTART:20180325T010000
END:DAYLIGHT
BEGIN:STANDARD
TZOFFSETFROM:+0100
TZOFFSETTO:+0000
TZNAME:GMT
DTSTART:20181028T010000
END:STANDARD
END:VTIMEZONE
BEGIN:VEVENT
DTSTART;TZID=Europe/London:20181016T193000
DTEND;TZID=Europe/London:20181016T210000
DTSTAMP:20260421T042159
CREATED:20180917T081322Z
LAST-MODIFIED:20180917T081925Z
UID:1864-1539718200-1539723600@northolt.org
SUMMARY:Community Pub Quiz
DESCRIPTION:We’re working with the team at the Crown Pub to bring the first community pub quiz to Northolt. Starting at 7:30pm in the Crown Pub\, all are welcome. \nTeams of up to 6 people\, with entry at £1 per person\, prizes will be on offer for the winning team\, as well as something for the losing team! No need to pre-register\, just turn up on the night and pay when you arrive. \nWe hope to make this a regular event and will be fundraising for a local charity\, so please do come along to support us and help make it a success!
URL:https://northolt.org/event/community-pub-quiz/
LOCATION:The Crown Pub\, Ealing Road\, Northolt\, Middlesex\, UB5 6AA\, United Kingdom
CATEGORIES:Community Event
END:VEVENT
END:VCALENDAR