BEGIN:VCALENDAR
VERSION:2.0
PRODID:-//SMwSR - ECPv5.4.0.2//NONSGML v1.0//EN
CALSCALE:GREGORIAN
METHOD:PUBLISH
X-WR-CALNAME:SMwSR
X-ORIGINAL-URL:https://northolt.org
X-WR-CALDESC:Events for SMwSR
BEGIN:VTIMEZONE
TZID:Europe/London
BEGIN:DAYLIGHT
TZOFFSETFROM:+0000
TZOFFSETTO:+0100
TZNAME:BST
DTSTART:20170326T010000
END:DAYLIGHT
BEGIN:STANDARD
TZOFFSETFROM:+0100
TZOFFSETTO:+0000
TZNAME:GMT
DTSTART:20171029T010000
END:STANDARD
END:VTIMEZONE
BEGIN:VEVENT
DTSTART;TZID=Europe/London:20171112T190000
DTEND;TZID=Europe/London:20171112T203000
DTSTAMP:20260421T013630
CREATED:20171114T153242Z
LAST-MODIFIED:20171114T153242Z
UID:1561-1510513200-1510518600@northolt.org
SUMMARY:Community Choir
DESCRIPTION:Community Choir Rehearsal. Just turn up\, and join in!
URL:https://northolt.org/event/community-choir-6/
CATEGORIES:Community Event
END:VEVENT
END:VCALENDAR