BEGIN:VCALENDAR
VERSION:2.0
PRODID:-//SMwSR - ECPv5.4.0.2//NONSGML v1.0//EN
CALSCALE:GREGORIAN
METHOD:PUBLISH
X-WR-CALNAME:SMwSR
X-ORIGINAL-URL:https://northolt.org
X-WR-CALDESC:Events for SMwSR
BEGIN:VTIMEZONE
TZID:Europe/London
BEGIN:DAYLIGHT
TZOFFSETFROM:+0000
TZOFFSETTO:+0100
TZNAME:BST
DTSTART:20190331T010000
END:DAYLIGHT
BEGIN:STANDARD
TZOFFSETFROM:+0100
TZOFFSETTO:+0000
TZNAME:GMT
DTSTART:20191027T010000
END:STANDARD
END:VTIMEZONE
BEGIN:VEVENT
DTSTART;TZID=Europe/London:20190519T120000
DTEND;TZID=Europe/London:20190519T140000
DTSTAMP:20260421T065702
CREATED:20190515T061342Z
LAST-MODIFIED:20190515T062635Z
UID:2060-1558267200-1558274400@northolt.org
SUMMARY:Come together for Sunday Lunch
DESCRIPTION:Join us after the service on Sunday 19th May for lunch at the Crown pub. Pre-order over coffee in the Memorial Hall straight after the service\, and pay at the bar when you arrive.
URL:https://northolt.org/event/come-together-for-sunday-lunch/
LOCATION:The Crown Pub\, Ealing Road\, Northolt\, Middlesex\, UB5 6AA\, United Kingdom
CATEGORIES:Community Event
END:VEVENT
END:VCALENDAR