BEGIN:VCALENDAR
VERSION:2.0
PRODID:-//SMwSR - ECPv5.4.0.2//NONSGML v1.0//EN
CALSCALE:GREGORIAN
METHOD:PUBLISH
X-WR-CALNAME:SMwSR
X-ORIGINAL-URL:https://northolt.org
X-WR-CALDESC:Events for SMwSR
BEGIN:VTIMEZONE
TZID:Europe/London
BEGIN:DAYLIGHT
TZOFFSETFROM:+0000
TZOFFSETTO:+0100
TZNAME:BST
DTSTART:20160327T010000
END:DAYLIGHT
BEGIN:STANDARD
TZOFFSETFROM:+0100
TZOFFSETTO:+0000
TZNAME:GMT
DTSTART:20161030T010000
END:STANDARD
END:VTIMEZONE
BEGIN:VEVENT
DTSTART;TZID=Europe/London:20161126T120000
DTEND;TZID=Europe/London:20161126T150000
DTSTAMP:20260421T045856
CREATED:20161031T205603Z
LAST-MODIFIED:20161031T205603Z
UID:1206-1480161600-1480172400@northolt.org
SUMMARY:Christmas Fair
DESCRIPTION:Please join us for our annual Christmas Fair. Father Christmas will be visiting us again\, as well as gifts\, cakes and other items for sale. With raffles and tombola – everyone is welcome!
URL:https://northolt.org/event/christmas-fair/
LOCATION:Memorial Hall\, Ealing Road\, Northolt\, UB5 6AA\, United Kingdom
CATEGORIES:Community Event
END:VEVENT
END:VCALENDAR