BEGIN:VCALENDAR
VERSION:2.0
PRODID:-//SMwSR - ECPv5.4.0.2//NONSGML v1.0//EN
CALSCALE:GREGORIAN
METHOD:PUBLISH
X-WR-CALNAME:SMwSR
X-ORIGINAL-URL:https://northolt.org
X-WR-CALDESC:Events for SMwSR
BEGIN:VTIMEZONE
TZID:Europe/London
BEGIN:DAYLIGHT
TZOFFSETFROM:+0000
TZOFFSETTO:+0100
TZNAME:BST
DTSTART:20190331T010000
END:DAYLIGHT
BEGIN:STANDARD
TZOFFSETFROM:+0100
TZOFFSETTO:+0000
TZNAME:GMT
DTSTART:20191027T010000
END:STANDARD
END:VTIMEZONE
BEGIN:VEVENT
DTSTART;TZID=Europe/London:20191130T120000
DTEND;TZID=Europe/London:20191130T150000
DTSTAMP:20260421T030143
CREATED:20190916T074619Z
LAST-MODIFIED:20190916T074619Z
UID:2170-1575115200-1575126000@northolt.org
SUMMARY:Christmas Fair
DESCRIPTION:Come along to our annual and ever popular Christmas Fair. Meet Father Christmas\, enter our raffle\, buy home-made jams and cakes and take part in other festive-themed activities. Hot soup\, tea\, coffee and other refreshments also available to purchase. Free entry\, with lots of activities to keep children entertained.
URL:https://northolt.org/event/christmas-fair-3/
LOCATION:Memorial Hall\, Ealing Road\, Northolt\, UB5 6AA\, United Kingdom
CATEGORIES:Community Event
END:VEVENT
END:VCALENDAR