BEGIN:VCALENDAR
VERSION:2.0
PRODID:-//SMwSR - ECPv5.4.0.2//NONSGML v1.0//EN
CALSCALE:GREGORIAN
METHOD:PUBLISH
X-WR-CALNAME:SMwSR
X-ORIGINAL-URL:https://northolt.org
X-WR-CALDESC:Events for SMwSR
BEGIN:VTIMEZONE
TZID:Europe/London
BEGIN:DAYLIGHT
TZOFFSETFROM:+0000
TZOFFSETTO:+0100
TZNAME:BST
DTSTART:20220327T010000
END:DAYLIGHT
BEGIN:STANDARD
TZOFFSETFROM:+0100
TZOFFSETTO:+0000
TZNAME:GMT
DTSTART:20221030T010000
END:STANDARD
END:VTIMEZONE
BEGIN:VEVENT
DTSTART;TZID=Europe/London:20221225T100000
DTEND;TZID=Europe/London:20221225T110000
DTSTAMP:20260420T073819
CREATED:20221021T064220Z
LAST-MODIFIED:20221021T064220Z
UID:11486-1671962400-1671966000@northolt.org
SUMMARY:Christmas Day Service
DESCRIPTION:Join us for on Christmas Day morning for a short service\, with all ages welcome
URL:https://northolt.org/event/christmas-day-service-6/
LOCATION:St Mary’s Church\, Ealing Road\, Northolt\, UB5 6AA\, United Kingdom
CATEGORIES:Worship
END:VEVENT
END:VCALENDAR