BEGIN:VCALENDAR
VERSION:2.0
PRODID:-//SMwSR - ECPv5.4.0.2//NONSGML v1.0//EN
CALSCALE:GREGORIAN
METHOD:PUBLISH
X-WR-CALNAME:SMwSR
X-ORIGINAL-URL:https://northolt.org
X-WR-CALDESC:Events for SMwSR
BEGIN:VTIMEZONE
TZID:Europe/London
BEGIN:DAYLIGHT
TZOFFSETFROM:+0000
TZOFFSETTO:+0100
TZNAME:BST
DTSTART:20190331T010000
END:DAYLIGHT
BEGIN:STANDARD
TZOFFSETFROM:+0100
TZOFFSETTO:+0000
TZNAME:GMT
DTSTART:20191027T010000
END:STANDARD
END:VTIMEZONE
BEGIN:VEVENT
DTSTART;TZID=Europe/London:20191222T180000
DTEND;TZID=Europe/London:20191222T200000
DTSTAMP:20260421T042857
CREATED:20190916T074853Z
LAST-MODIFIED:20190916T074853Z
UID:2174-1577037600-1577044800@northolt.org
SUMMARY:Carols by Candlelight
DESCRIPTION:Join us for the traditional nine lessons and carols by candlelight in our beautiful and ancient church. Mulled wine\, mulled apple juice and mince pies served afterwards.
URL:https://northolt.org/event/carols-by-candlelight-2/
LOCATION:St Mary’s Church\, Ealing Road\, Northolt\, UB5 6AA\, United Kingdom
CATEGORIES:Community Event,Worship
END:VEVENT
END:VCALENDAR