BEGIN:VCALENDAR
VERSION:2.0
PRODID:-//SMwSR - ECPv5.4.0.2//NONSGML v1.0//EN
CALSCALE:GREGORIAN
METHOD:PUBLISH
X-WR-CALNAME:SMwSR
X-ORIGINAL-URL:https://northolt.org
X-WR-CALDESC:Events for SMwSR
BEGIN:VTIMEZONE
TZID:Europe/London
BEGIN:DAYLIGHT
TZOFFSETFROM:+0000
TZOFFSETTO:+0100
TZNAME:BST
DTSTART:20160327T010000
END:DAYLIGHT
BEGIN:STANDARD
TZOFFSETFROM:+0100
TZOFFSETTO:+0000
TZNAME:GMT
DTSTART:20161030T010000
END:STANDARD
END:VTIMEZONE
BEGIN:VEVENT
DTSTART;TZID=Europe/London:20161106T150000
DTEND;TZID=Europe/London:20161106T160000
DTSTAMP:20260421T062446
CREATED:20161027T195112Z
LAST-MODIFIED:20161027T195112Z
UID:1131-1478444400-1478448000@northolt.org
SUMMARY:Annual Memorial Service
DESCRIPTION:A service to remember those we loved who have died. During the service will be a time of remembrance where names of those who have died will be read out. \nPlease email Fr Chris (chris.hill@northolt.org) if you would like a specific name read out. \nRefreshments will be served after the service. \n 
URL:https://northolt.org/event/annual-memorial-service/
LOCATION:St Mary’s Church\, Ealing Road\, Northolt\, UB5 6AA\, United Kingdom
END:VEVENT
END:VCALENDAR