BEGIN:VCALENDAR
VERSION:2.0
PRODID:-//SMwSR - ECPv5.4.0.2//NONSGML v1.0//EN
CALSCALE:GREGORIAN
METHOD:PUBLISH
X-WR-CALNAME:SMwSR
X-ORIGINAL-URL:https://northolt.org
X-WR-CALDESC:Events for SMwSR
BEGIN:VTIMEZONE
TZID:Europe/London
BEGIN:DAYLIGHT
TZOFFSETFROM:+0000
TZOFFSETTO:+0100
TZNAME:BST
DTSTART:20160327T010000
END:DAYLIGHT
BEGIN:STANDARD
TZOFFSETFROM:+0100
TZOFFSETTO:+0000
TZNAME:GMT
DTSTART:20161030T010000
END:STANDARD
END:VTIMEZONE
BEGIN:VEVENT
DTSTART;TZID=Europe/London:20160605T100000
DTEND;TZID=Europe/London:20160605T110000
DTSTAMP:20260421T064149
CREATED:20160426T185618Z
LAST-MODIFIED:20160514T131723Z
UID:747-1465120800-1465124400@northolt.org
SUMMARY:All Age Service at St Mary's
DESCRIPTION:All are welcome to join us for our monthly all age service at St Mary’s. \n 
URL:https://northolt.org/event/all-age-service-at-st-marys/
LOCATION:St Mary’s Church\, Ealing Road\, Northolt\, UB5 6AA\, United Kingdom
END:VEVENT
END:VCALENDAR