BEGIN:VCALENDAR
VERSION:2.0
PRODID:-//SMwSR - ECPv5.4.0.2//NONSGML v1.0//EN
CALSCALE:GREGORIAN
METHOD:PUBLISH
X-WR-CALNAME:SMwSR
X-ORIGINAL-URL:https://northolt.org
X-WR-CALDESC:Events for SMwSR
BEGIN:VTIMEZONE
TZID:Europe/London
BEGIN:DAYLIGHT
TZOFFSETFROM:+0000
TZOFFSETTO:+0100
TZNAME:BST
DTSTART:20180325T010000
END:DAYLIGHT
BEGIN:STANDARD
TZOFFSETFROM:+0100
TZOFFSETTO:+0000
TZNAME:GMT
DTSTART:20181028T010000
END:STANDARD
END:VTIMEZONE
BEGIN:VEVENT
DTSTART;TZID=Europe/London:20181007T100000
DTEND;TZID=Europe/London:20181007T110000
DTSTAMP:20260421T042233
CREATED:20180414T153327Z
LAST-MODIFIED:20180917T080706Z
UID:1698-1538906400-1538910000@northolt.org
SUMMARY:Harvest Festival
DESCRIPTION:On the 7th of October\, we’ll be celebrating the harvest with our Harvest Festival service. We’ll have a special guest speaker from Christian Aid talking about their work\, and will be collecting donations to support their work\, as well as food for the Ealing Food Bank. \n 
URL:https://northolt.org/event/all-age-service-16/
LOCATION:St Mary’s Church\, Ealing Road\, Northolt\, UB5 6AA\, United Kingdom
CATEGORIES:Worship
END:VEVENT
END:VCALENDAR