BEGIN:VCALENDAR
VERSION:2.0
PRODID:-//SMwSR - ECPv5.4.0.2//NONSGML v1.0//EN
CALSCALE:GREGORIAN
METHOD:PUBLISH
X-WR-CALNAME:SMwSR
X-ORIGINAL-URL:https://northolt.org
X-WR-CALDESC:Events for SMwSR
BEGIN:VTIMEZONE
TZID:Europe/London
BEGIN:DAYLIGHT
TZOFFSETFROM:+0000
TZOFFSETTO:+0100
TZNAME:BST
DTSTART:20260329T010000
END:DAYLIGHT
BEGIN:STANDARD
TZOFFSETFROM:+0100
TZOFFSETTO:+0000
TZNAME:GMT
DTSTART:20261025T010000
END:STANDARD
END:VTIMEZONE
BEGIN:VEVENT
DTSTART;TZID=Europe/London:20260403T110000
DTEND;TZID=Europe/London:20260403T120000
DTSTAMP:20260423T051722
CREATED:20260327T084401Z
LAST-MODIFIED:20260327T084401Z
UID:13746-1775214000-1775217600@northolt.org
SUMMARY:Good Friday walk to Northala Hills
DESCRIPTION:Meet at 11am by the Clock Tower in Northolt Village as we join with other churches to process up to Northala Hills.
URL:https://northolt.org/event/good-friday-walk-to-northala-hills-2/
LOCATION:Clock Tower
CATEGORIES:Community Event,Worship
END:VEVENT
BEGIN:VEVENT
DTSTART;TZID=Europe/London:20260403T150000
DTEND;TZID=Europe/London:20260403T160000
DTSTAMP:20260423T051722
CREATED:20260327T084446Z
LAST-MODIFIED:20260327T084446Z
UID:13748-1775228400-1775232000@northolt.org
SUMMARY:Good Friday Stations of the Cross
DESCRIPTION:Join us this Good Friday in St Mary’s church from 3pm for the Stations of the Cross as we remember the journey Christ took.
URL:https://northolt.org/event/good-friday-stations-of-the-cross-4/
LOCATION:St Mary’s Church\, Ealing Road\, Northolt\, UB5 6AA\, United Kingdom
CATEGORIES:Worship
END:VEVENT
END:VCALENDAR