BEGIN:VCALENDAR
VERSION:2.0
PRODID:-//SMwSR - ECPv5.4.0.2//NONSGML v1.0//EN
CALSCALE:GREGORIAN
METHOD:PUBLISH
X-WR-CALNAME:SMwSR
X-ORIGINAL-URL:https://northolt.org
X-WR-CALDESC:Events for SMwSR
BEGIN:VTIMEZONE
TZID:Europe/London
BEGIN:DAYLIGHT
TZOFFSETFROM:+0000
TZOFFSETTO:+0100
TZNAME:BST
DTSTART:20260329T010000
END:DAYLIGHT
BEGIN:STANDARD
TZOFFSETFROM:+0100
TZOFFSETTO:+0000
TZNAME:GMT
DTSTART:20261025T010000
END:STANDARD
END:VTIMEZONE
BEGIN:VEVENT
DTSTART;TZID=Europe/London:20260329T100000
DTEND;TZID=Europe/London:20260329T110000
DTSTAMP:20260422T222637
CREATED:20260327T084231Z
LAST-MODIFIED:20260327T084231Z
UID:13742-1774778400-1774782000@northolt.org
SUMMARY:Palm Sunday Service
DESCRIPTION:Join us at 9:50am at the bottom of the path opposite The Crown pub as we process up to St Mary’s church to celebrate Palm Sunday.
URL:https://northolt.org/event/palm-sunday-service-2/
LOCATION:St Mary’s Church\, Ealing Road\, Northolt\, UB5 6AA\, United Kingdom
CATEGORIES:Worship
END:VEVENT
END:VCALENDAR