BEGIN:VCALENDAR
VERSION:2.0
PRODID:-//SMwSR - ECPv5.4.0.2//NONSGML v1.0//EN
CALSCALE:GREGORIAN
METHOD:PUBLISH
X-WR-CALNAME:SMwSR
X-ORIGINAL-URL:https://northolt.org
X-WR-CALDESC:Events for SMwSR
BEGIN:VTIMEZONE
TZID:Europe/London
BEGIN:DAYLIGHT
TZOFFSETFROM:+0000
TZOFFSETTO:+0100
TZNAME:BST
DTSTART:20250330T010000
END:DAYLIGHT
BEGIN:STANDARD
TZOFFSETFROM:+0100
TZOFFSETTO:+0000
TZNAME:GMT
DTSTART:20251026T010000
END:STANDARD
END:VTIMEZONE
BEGIN:VEVENT
DTSTART;TZID=Europe/London:20250420T053000
DTEND;TZID=Europe/London:20250420T063000
DTSTAMP:20260420T185440
CREATED:20250330T171128Z
LAST-MODIFIED:20250415T201810Z
UID:13641-1745127000-1745130600@northolt.org
SUMMARY:Easter Sunday Dawn Service
DESCRIPTION:Come along to St Mary’s church at 5:30am on Easter Sunday for our annual dawn service as we light our Easter candle from our Easter fire and celebrate Christ’s resurrection. Followed by pastries\, tea and coffee in the Memorial Hall.
URL:https://northolt.org/event/easter-sunday-dawn-service-2/
LOCATION:St Mary’s Church\, Ealing Road\, Northolt\, UB5 6AA\, United Kingdom
CATEGORIES:Worship
END:VEVENT
BEGIN:VEVENT
DTSTART;TZID=Europe/London:20250420T100000
DTEND;TZID=Europe/London:20250420T110000
DTSTAMP:20260420T185440
CREATED:20250330T171209Z
LAST-MODIFIED:20250330T171209Z
UID:13643-1745143200-1745146800@northolt.org
SUMMARY:Easter Sunday Service
DESCRIPTION:Celebrate the resurrection of Christ in our 10am service on Easter Sunday.
URL:https://northolt.org/event/easter-sunday-service/
LOCATION:St Mary’s Church\, Ealing Road\, Northolt\, UB5 6AA\, United Kingdom
CATEGORIES:Worship
END:VEVENT
END:VCALENDAR