BEGIN:VCALENDAR
VERSION:2.0
PRODID:-//SMwSR - ECPv5.4.0.2//NONSGML v1.0//EN
CALSCALE:GREGORIAN
METHOD:PUBLISH
X-WR-CALNAME:SMwSR
X-ORIGINAL-URL:https://northolt.org
X-WR-CALDESC:Events for SMwSR
BEGIN:VTIMEZONE
TZID:Europe/London
BEGIN:DAYLIGHT
TZOFFSETFROM:+0000
TZOFFSETTO:+0100
TZNAME:BST
DTSTART:20230326T010000
END:DAYLIGHT
BEGIN:STANDARD
TZOFFSETFROM:+0100
TZOFFSETTO:+0000
TZNAME:GMT
DTSTART:20231029T010000
END:STANDARD
END:VTIMEZONE
BEGIN:VEVENT
DTSTART;TZID=Europe/London:20231217T180000
DTEND;TZID=Europe/London:20231217T193000
DTSTAMP:20260419T142930
CREATED:20231023T114048Z
LAST-MODIFIED:20231023T114737Z
UID:13381-1702836000-1702841400@northolt.org
SUMMARY:Carols by Candlelight Service
DESCRIPTION:Join us in the beautiful and historic St Mary’s for our annual carols by candlelight service. Always a popular event\, there’ll be mince pies\, mulled wine and mulled apple juice served afterwards.
URL:https://northolt.org/event/carols-by-candlelight-service/
LOCATION:St Mary’s Church\, Ealing Road\, Northolt\, UB5 6AA\, United Kingdom
CATEGORIES:Worship
END:VEVENT
END:VCALENDAR