BEGIN:VCALENDAR
VERSION:2.0
PRODID:-//SMwSR - ECPv5.4.0.2//NONSGML v1.0//EN
CALSCALE:GREGORIAN
METHOD:PUBLISH
X-WR-CALNAME:SMwSR
X-ORIGINAL-URL:https://northolt.org
X-WR-CALDESC:Events for SMwSR
BEGIN:VTIMEZONE
TZID:Europe/London
BEGIN:DAYLIGHT
TZOFFSETFROM:+0000
TZOFFSETTO:+0100
TZNAME:BST
DTSTART:20230326T010000
END:DAYLIGHT
BEGIN:STANDARD
TZOFFSETFROM:+0100
TZOFFSETTO:+0000
TZNAME:GMT
DTSTART:20231029T010000
END:STANDARD
END:VTIMEZONE
BEGIN:VEVENT
DTSTART;TZID=Europe/London:20231210T100000
DTEND;TZID=Europe/London:20231210T113000
DTSTAMP:20260419T144118
CREATED:20231118T181603Z
LAST-MODIFIED:20231118T181603Z
UID:13402-1702202400-1702207800@northolt.org
SUMMARY:Christingle Service
DESCRIPTION:Our Christingle Service will be held at St Mary’s Church on Sunday 10th December starting at 10am. A family-friendly service\, where you’ll make a Christingle to take home.
URL:https://northolt.org/event/christingle-service/
LOCATION:St Mary’s Church\, Ealing Road\, Northolt\, UB5 6AA\, United Kingdom
CATEGORIES:Worship
END:VEVENT
BEGIN:VEVENT
DTSTART;TZID=Europe/London:20231210T180000
DTEND;TZID=Europe/London:20231210T190000
DTSTAMP:20260419T144118
CREATED:20230717T184239Z
LAST-MODIFIED:20230717T184239Z
UID:13216-1702231200-1702234800@northolt.org
SUMMARY:Carol Singing
DESCRIPTION:Come along to sing some carols with us and get yourself into the festive mood at St Richard’s church! We’ll be singing outside the church from 6pm onwards!
URL:https://northolt.org/event/carol-singing/
LOCATION:St Richard’s\, Sussex Crescent\, Northolt\, UB5 4DR\, United Kingdom
CATEGORIES:Community Event
END:VEVENT
END:VCALENDAR