BEGIN:VCALENDAR
VERSION:2.0
PRODID:-//SMwSR - ECPv5.4.0.2//NONSGML v1.0//EN
CALSCALE:GREGORIAN
METHOD:PUBLISH
X-WR-CALNAME:SMwSR
X-ORIGINAL-URL:https://northolt.org
X-WR-CALDESC:Events for SMwSR
BEGIN:VTIMEZONE
TZID:Europe/London
BEGIN:DAYLIGHT
TZOFFSETFROM:+0000
TZOFFSETTO:+0100
TZNAME:BST
DTSTART:20230326T010000
END:DAYLIGHT
BEGIN:STANDARD
TZOFFSETFROM:+0100
TZOFFSETTO:+0000
TZNAME:GMT
DTSTART:20231029T010000
END:STANDARD
END:VTIMEZONE
BEGIN:VEVENT
DTSTART;TZID=Europe/London:20231202T100000
DTEND;TZID=Europe/London:20231202T123000
DTSTAMP:20260419T142109
CREATED:20230717T182737Z
LAST-MODIFIED:20230717T182737Z
UID:13199-1701511200-1701520200@northolt.org
SUMMARY:Messy Church!
DESCRIPTION:Come to St Richard’s Church from 10am-12:30pm on Saturday 2nd December for Messy Church. It’s a way of being church for family and others. It’s Christ-centred for all ages. Come along and enjoy fun\, creativity and food! \nOnly £1 per child\, and a maximum of £3 for families with 3 or more children\, it’s a cost-effective and fun morning!
URL:https://northolt.org/event/messy-church-4/
LOCATION:St Richard’s\, Sussex Crescent\, Northolt\, UB5 4DR\, United Kingdom
CATEGORIES:Community Event,Worship
END:VEVENT
END:VCALENDAR