BEGIN:VCALENDAR
VERSION:2.0
PRODID:-//SMwSR - ECPv5.4.0.2//NONSGML v1.0//EN
CALSCALE:GREGORIAN
METHOD:PUBLISH
X-WR-CALNAME:SMwSR
X-ORIGINAL-URL:https://northolt.org
X-WR-CALDESC:Events for SMwSR
BEGIN:VTIMEZONE
TZID:Europe/London
BEGIN:DAYLIGHT
TZOFFSETFROM:+0000
TZOFFSETTO:+0100
TZNAME:BST
DTSTART:20230326T010000
END:DAYLIGHT
BEGIN:STANDARD
TZOFFSETFROM:+0100
TZOFFSETTO:+0000
TZNAME:GMT
DTSTART:20231029T010000
END:STANDARD
END:VTIMEZONE
BEGIN:VEVENT
DTSTART;TZID=Europe/London:20231119T180000
DTEND;TZID=Europe/London:20231119T190000
DTSTAMP:20260419T153834
CREATED:20230717T183946Z
LAST-MODIFIED:20230717T183946Z
UID:13212-1700416800-1700420400@northolt.org
SUMMARY:In Stillness Service
DESCRIPTION:Join us at St Richard’s for a quiet and meditative service.
URL:https://northolt.org/event/in-stillness-service-3/
LOCATION:St Richard’s\, Sussex Crescent\, Northolt\, UB5 4DR\, United Kingdom
CATEGORIES:Worship
END:VEVENT
END:VCALENDAR