BEGIN:VCALENDAR
VERSION:2.0
PRODID:-//SMwSR - ECPv5.4.0.2//NONSGML v1.0//EN
CALSCALE:GREGORIAN
METHOD:PUBLISH
X-WR-CALNAME:SMwSR
X-ORIGINAL-URL:https://northolt.org
X-WR-CALDESC:Events for SMwSR
BEGIN:VTIMEZONE
TZID:Europe/London
BEGIN:DAYLIGHT
TZOFFSETFROM:+0000
TZOFFSETTO:+0100
TZNAME:BST
DTSTART:20230326T010000
END:DAYLIGHT
BEGIN:STANDARD
TZOFFSETFROM:+0100
TZOFFSETTO:+0000
TZNAME:GMT
DTSTART:20231029T010000
END:STANDARD
END:VTIMEZONE
BEGIN:VEVENT
DTSTART;TZID=Europe/London:20231005T180000
DTEND;TZID=Europe/London:20231005T200000
DTSTAMP:20260419T171726
CREATED:20230717T184422Z
LAST-MODIFIED:20230922T165840Z
UID:13218-1696528800-1696536000@northolt.org
SUMMARY:Holy Communion with the Bishop of London
DESCRIPTION:Join us at St Richard’s as we celebrate Holy Communion with the Right Reverend and Right Honourable Dame Sarah Mullally\, the Bishop of London. We’ll also be marking Black History Month\, with an exhibition and refreshments. \nNote that to ensure we can accommodate everyone that wishes to attend\, we ask you to sign up free through Eventbrite at the link below: \nhttps://www.eventbrite.co.uk/e/service-of-holy-communion-to-celebrate-black-history-tickets-722007994347?aff=oddtdtcreator
URL:https://northolt.org/event/holy-communion-with-the-bishop-of-london/
LOCATION:St Richard’s\, Sussex Crescent\, Northolt\, UB5 4DR\, United Kingdom
CATEGORIES:Community Event,Worship
END:VEVENT
END:VCALENDAR