BEGIN:VCALENDAR
VERSION:2.0
PRODID:-//SMwSR - ECPv5.4.0.2//NONSGML v1.0//EN
CALSCALE:GREGORIAN
METHOD:PUBLISH
X-WR-CALNAME:SMwSR
X-ORIGINAL-URL:https://northolt.org
X-WR-CALDESC:Events for SMwSR
BEGIN:VTIMEZONE
TZID:Europe/London
BEGIN:DAYLIGHT
TZOFFSETFROM:+0000
TZOFFSETTO:+0100
TZNAME:BST
DTSTART:20230326T010000
END:DAYLIGHT
BEGIN:STANDARD
TZOFFSETFROM:+0100
TZOFFSETTO:+0000
TZNAME:GMT
DTSTART:20231029T010000
END:STANDARD
END:VTIMEZONE
BEGIN:VEVENT
DTSTART;TZID=Europe/London:20230915T190000
DTEND;TZID=Europe/London:20230915T210000
DTSTAMP:20260419T185022
CREATED:20230717T183757Z
LAST-MODIFIED:20230717T183757Z
UID:13206-1694804400-1694811600@northolt.org
SUMMARY:Film Night
DESCRIPTION:Come along to St Richard’s church at 7pm on Friday the 15th of September for a film night! We’ll be showing the film 2040. Come along and enjoy the film with us!
URL:https://northolt.org/event/film-night/
LOCATION:St Richard’s\, Sussex Crescent\, Northolt\, UB5 4DR\, United Kingdom
CATEGORIES:Community Event
END:VEVENT
BEGIN:VEVENT
DTSTART;TZID=Europe/London:20230915T190000
DTEND;TZID=Europe/London:20230915T210000
DTSTAMP:20260419T185022
CREATED:20230912T174335Z
LAST-MODIFIED:20230912T174336Z
UID:13364-1694804400-1694811600@northolt.org
SUMMARY:Free film night
DESCRIPTION:Come along to St Richard’s Church on Friday 15th September to enjoy a free screening of the film 2040 – popcorn included! Starting at 7pm\, 2040 is a family-friendly film that explores what the world will look like in 2040\, and what we could do to try to help the environment and ensure a secure future for our planet and our children. As a church with a Bronze Eco Church award\, this is a subject very close to our hearts\, and close to yours too\, we hope.
URL:https://northolt.org/event/free-film-night/
LOCATION:St Richard’s\, Sussex Crescent\, Northolt\, UB5 4DR\, United Kingdom
CATEGORIES:Community Event
END:VEVENT
END:VCALENDAR