BEGIN:VCALENDAR
VERSION:2.0
PRODID:-//SMwSR - ECPv5.4.0.2//NONSGML v1.0//EN
CALSCALE:GREGORIAN
METHOD:PUBLISH
X-WR-CALNAME:SMwSR
X-ORIGINAL-URL:https://northolt.org
X-WR-CALDESC:Events for SMwSR
BEGIN:VTIMEZONE
TZID:Europe/London
BEGIN:DAYLIGHT
TZOFFSETFROM:+0000
TZOFFSETTO:+0100
TZNAME:BST
DTSTART:20200329T010000
END:DAYLIGHT
BEGIN:STANDARD
TZOFFSETFROM:+0100
TZOFFSETTO:+0000
TZNAME:GMT
DTSTART:20201025T010000
END:STANDARD
END:VTIMEZONE
BEGIN:VEVENT
DTSTART;TZID=Europe/London:20200209T100000
DTEND;TZID=Europe/London:20200209T230000
DTSTAMP:20260424T022936
CREATED:20200118T132658Z
LAST-MODIFIED:20200118T153034Z
UID:2603-1581242400-1581289200@northolt.org
SUMMARY:Communion Service and Children’s Church
DESCRIPTION:Join us at 10 am each week for our friendly communion service with Children’s Church at the Memorial Hall for those children that would like to attend. Don’t forget to come to the Memorial Hall afterwards for tea\, coffee and a friendly chat.
URL:https://northolt.org/event/communion-service-and-childrens-church-26/
LOCATION:St Mary’s Church\, Ealing Road\, Northolt\, UB5 6AA\, United Kingdom
CATEGORIES:Worship
END:VEVENT
END:VCALENDAR