BEGIN:VCALENDAR
VERSION:2.0
PRODID:-//SMwSR - ECPv5.4.0.2//NONSGML v1.0//EN
CALSCALE:GREGORIAN
METHOD:PUBLISH
X-WR-CALNAME:SMwSR
X-ORIGINAL-URL:https://northolt.org
X-WR-CALDESC:Events for SMwSR
BEGIN:VTIMEZONE
TZID:Europe/London
BEGIN:DAYLIGHT
TZOFFSETFROM:+0000
TZOFFSETTO:+0100
TZNAME:BST
DTSTART:20200329T010000
END:DAYLIGHT
BEGIN:STANDARD
TZOFFSETFROM:+0100
TZOFFSETTO:+0000
TZNAME:GMT
DTSTART:20201025T010000
END:STANDARD
END:VTIMEZONE
BEGIN:VEVENT
DTSTART;TZID=Europe/London:20200105T100000
DTEND;TZID=Europe/London:20200105T110000
DTSTAMP:20260424T033847
CREATED:20200104T210909Z
LAST-MODIFIED:20200104T210909Z
UID:2498-1578218400-1578222000@northolt.org
SUMMARY:All Age Service
DESCRIPTION:On the first Sunday of every month at St Mary’s\, we all meet together for around an hour. This means that our Children’s Church are in St Mary’s with everyone else for the whole service\, rather than meeting together separately. \nThis is a shorter communion service that aims to involve everyone\, with a simpler message to help us think\, an activity or two to help us engage and our normal singing and celebration of communion.
URL:https://northolt.org/event/all-age-service-26/
LOCATION:St Mary’s Church\, Ealing Road\, Northolt\, UB5 6AA\, United Kingdom
END:VEVENT
END:VCALENDAR