BEGIN:VCALENDAR
VERSION:2.0
PRODID:-//SMwSR - ECPv5.4.0.2//NONSGML v1.0//EN
CALSCALE:GREGORIAN
METHOD:PUBLISH
X-WR-CALNAME:SMwSR
X-ORIGINAL-URL:https://northolt.org
X-WR-CALDESC:Events for SMwSR
BEGIN:VTIMEZONE
TZID:Europe/London
BEGIN:DAYLIGHT
TZOFFSETFROM:+0000
TZOFFSETTO:+0100
TZNAME:BST
DTSTART:20190331T010000
END:DAYLIGHT
BEGIN:STANDARD
TZOFFSETFROM:+0100
TZOFFSETTO:+0000
TZNAME:GMT
DTSTART:20191027T010000
END:STANDARD
END:VTIMEZONE
BEGIN:VEVENT
DTSTART;TZID=Europe/London:20191126T193000
DTEND;TZID=Europe/London:20191126T213000
DTSTAMP:20260424T045557
CREATED:20190916T074415Z
LAST-MODIFIED:20190916T074415Z
UID:2168-1574796600-1574803800@northolt.org
SUMMARY:Pub Quiz - Movember Special
DESCRIPTION:The monthly pub quiz with a hairy twist this month to celebrate Movember takes place at The Crown pub. Teams of up to six can enter\, costing £1 per person. There’s a prize of 6 bottles of wine for the winning team\, as well as a consolation prize for the losing team! Starts at 7:30pm.
URL:https://northolt.org/event/pub-quiz-movember-special/
LOCATION:The Crown Pub\, Ealing Road\, Northolt\, Middlesex\, UB5 6AA\, United Kingdom
CATEGORIES:Community Event
END:VEVENT
END:VCALENDAR