BEGIN:VCALENDAR
VERSION:2.0
PRODID:-//SMwSR - ECPv5.4.0.2//NONSGML v1.0//EN
CALSCALE:GREGORIAN
METHOD:PUBLISH
X-WR-CALNAME:SMwSR
X-ORIGINAL-URL:https://northolt.org
X-WR-CALDESC:Events for SMwSR
BEGIN:VTIMEZONE
TZID:Europe/London
BEGIN:DAYLIGHT
TZOFFSETFROM:+0000
TZOFFSETTO:+0100
TZNAME:BST
DTSTART:20190331T010000
END:DAYLIGHT
BEGIN:STANDARD
TZOFFSETFROM:+0100
TZOFFSETTO:+0000
TZNAME:GMT
DTSTART:20191027T010000
END:STANDARD
END:VTIMEZONE
BEGIN:VEVENT
DTSTART;TZID=Europe/London:20191020T100000
DTEND;TZID=Europe/London:20191020T110000
DTSTAMP:20260424T082821
CREATED:20190916T075604Z
LAST-MODIFIED:20190916T075604Z
UID:2194-1571565600-1571569200@northolt.org
SUMMARY:Communion Service and Children's Church
DESCRIPTION:Join us at 10am each week for our friendly communion service with Children’s Church at the Memorial Hall for those children that would like to attend. Don’t forget to come to the Memorial Hall afterwards for tea\, coffee and a friendly chat.
URL:https://northolt.org/event/communion-service-and-childrens-church-16/
LOCATION:St Mary’s Church\, Ealing Road\, Northolt\, UB5 6AA\, United Kingdom
CATEGORIES:Worship
END:VEVENT
BEGIN:VEVENT
DTSTART;TZID=Europe/London:20191020T120000
DTEND;TZID=Europe/London:20191020T140000
DTSTAMP:20260424T082821
CREATED:20191016T192802Z
LAST-MODIFIED:20191016T192802Z
UID:2254-1571572800-1571580000@northolt.org
SUMMARY:Monthly Sunday Lunch
DESCRIPTION:Join us after the service on Sunday 20th October for lunch at the Crown pub. Pre-order over coffee in the Memorial Hall straight after the service\, and pay at the bar when you arrive.
URL:https://northolt.org/event/monthly-sunday-lunch/
LOCATION:The Crown Pub\, Ealing Road\, Northolt\, Middlesex\, UB5 6AA\, United Kingdom
CATEGORIES:Community Event
END:VEVENT
END:VCALENDAR