BEGIN:VCALENDAR
VERSION:2.0
PRODID:-//SMwSR - ECPv5.4.0.2//NONSGML v1.0//EN
CALSCALE:GREGORIAN
METHOD:PUBLISH
X-WR-CALNAME:SMwSR
X-ORIGINAL-URL:https://northolt.org
X-WR-CALDESC:Events for SMwSR
BEGIN:VTIMEZONE
TZID:Europe/London
BEGIN:DAYLIGHT
TZOFFSETFROM:+0000
TZOFFSETTO:+0100
TZNAME:BST
DTSTART:20190331T010000
END:DAYLIGHT
BEGIN:STANDARD
TZOFFSETFROM:+0100
TZOFFSETTO:+0000
TZNAME:GMT
DTSTART:20191027T010000
END:STANDARD
END:VTIMEZONE
BEGIN:VEVENT
DTSTART;TZID=Europe/London:20190526T123000
DTEND;TZID=Europe/London:20190526T143000
DTSTAMP:20260424T135211
CREATED:20190515T061812Z
LAST-MODIFIED:20190515T061812Z
UID:2064-1558873800-1558881000@northolt.org
SUMMARY:PCC Meeting
DESCRIPTION:After the service\, our Parochial Church Council will be meeting in the Memorial Hall for their regular meeting.
URL:https://northolt.org/event/pcc-meeting-2/
LOCATION:Memorial Hall\, Ealing Road\, Northolt\, UB5 6AA\, United Kingdom
CATEGORIES:Worship
END:VEVENT
END:VCALENDAR