BEGIN:VCALENDAR
VERSION:2.0
PRODID:-//SMwSR - ECPv5.4.0.2//NONSGML v1.0//EN
CALSCALE:GREGORIAN
METHOD:PUBLISH
X-WR-CALNAME:SMwSR
X-ORIGINAL-URL:https://northolt.org
X-WR-CALDESC:Events for SMwSR
BEGIN:VTIMEZONE
TZID:Europe/London
BEGIN:DAYLIGHT
TZOFFSETFROM:+0000
TZOFFSETTO:+0100
TZNAME:BST
DTSTART:20190331T010000
END:DAYLIGHT
BEGIN:STANDARD
TZOFFSETFROM:+0100
TZOFFSETTO:+0000
TZNAME:GMT
DTSTART:20191027T010000
END:STANDARD
END:VTIMEZONE
BEGIN:VEVENT
DTSTART;TZID=Europe/London:20190419T110000
DTEND;TZID=Europe/London:20190419T123000
DTSTAMP:20260424T151130
CREATED:20190407T161732Z
LAST-MODIFIED:20190407T161732Z
UID:2021-1555671600-1555677000@northolt.org
SUMMARY:Good Friday Procession of the Cross
DESCRIPTION:Meet at the Clock Tower on Northolt green at 11am\, to walk up to Northala Hills\, meeting other local churches at 12 noon to mark Good Friday with a brief service atop one of the hills.
URL:https://northolt.org/event/good-friday-procession-of-the-cross/
LOCATION:Clock Tower
CATEGORIES:Worship
END:VEVENT
BEGIN:VEVENT
DTSTART;TZID=Europe/London:20190419T130000
DTEND;TZID=Europe/London:20190419T140000
DTSTAMP:20260424T151130
CREATED:20190407T161826Z
LAST-MODIFIED:20190407T161841Z
UID:2023-1555678800-1555682400@northolt.org
SUMMARY:Good Friday Stations of the Cross
DESCRIPTION:Good Friday continues at St Mary’s with a service walking the way of the cross within the church.
URL:https://northolt.org/event/good-friday-stations-of-the-cross/
LOCATION:St Mary’s Church\, Ealing Road\, Northolt\, UB5 6AA\, United Kingdom
CATEGORIES:Worship
END:VEVENT
BEGIN:VEVENT
DTSTART;TZID=Europe/London:20190419T140000
DTEND;TZID=Europe/London:20190419T153000
DTSTAMP:20260424T151130
CREATED:20190407T161931Z
LAST-MODIFIED:20190407T161931Z
UID:2025-1555682400-1555687800@northolt.org
SUMMARY:Good Friday Liturgy
DESCRIPTION:Join us for a powerful service remembering Jesus’ death.
URL:https://northolt.org/event/good-friday-liturgy-2/
LOCATION:St Mary’s Church\, Ealing Road\, Northolt\, UB5 6AA\, United Kingdom
CATEGORIES:Worship
END:VEVENT
END:VCALENDAR