BEGIN:VCALENDAR
VERSION:2.0
PRODID:-//SMwSR - ECPv5.4.0.2//NONSGML v1.0//EN
CALSCALE:GREGORIAN
METHOD:PUBLISH
X-WR-CALNAME:SMwSR
X-ORIGINAL-URL:https://northolt.org
X-WR-CALDESC:Events for SMwSR
BEGIN:VTIMEZONE
TZID:Europe/London
BEGIN:DAYLIGHT
TZOFFSETFROM:+0000
TZOFFSETTO:+0100
TZNAME:BST
DTSTART:20180325T010000
END:DAYLIGHT
BEGIN:STANDARD
TZOFFSETFROM:+0100
TZOFFSETTO:+0000
TZNAME:GMT
DTSTART:20181028T010000
END:STANDARD
END:VTIMEZONE
BEGIN:VEVENT
DTSTART;TZID=Europe/London:20181216T100000
DTEND;TZID=Europe/London:20181216T110000
DTSTAMP:20260424T205412
CREATED:20180429T134123Z
LAST-MODIFIED:20180429T134123Z
UID:1791-1544954400-1544958000@northolt.org
SUMMARY:Communion Service and Children's Church
DESCRIPTION:Join us at 10am each week for our friendly communion service with Children’s Church at the Memorial Hall for those children that would like to attend. Don’t forget to come to the Memorial Hall afterwards for tea\, coffee and a friendly chat.
URL:https://northolt.org/event/communion-service-and-childrens-church-11/
LOCATION:St Mary’s Church\, Ealing Road\, Northolt\, UB5 6AA\, United Kingdom
CATEGORIES:Worship
END:VEVENT
BEGIN:VEVENT
DTSTART;TZID=Europe/London:20181216T180000
DTEND;TZID=Europe/London:20181216T200000
DTSTAMP:20260424T205412
CREATED:20180917T081639Z
LAST-MODIFIED:20180917T081948Z
UID:1868-1544983200-1544990400@northolt.org
SUMMARY:Carols by Candlelight
DESCRIPTION:Join us for the traditional nine lessons and carols by candlelight in our beautiful church. Mulled wine\, mulled apple juice and mince pies served afterwards.
URL:https://northolt.org/event/carols-by-candlelight/
LOCATION:St Mary’s Church\, Ealing Road\, Northolt\, UB5 6AA\, United Kingdom
CATEGORIES:Worship
END:VEVENT
END:VCALENDAR