BEGIN:VCALENDAR
VERSION:2.0
PRODID:-//SMwSR - ECPv5.4.0.2//NONSGML v1.0//EN
CALSCALE:GREGORIAN
METHOD:PUBLISH
X-WR-CALNAME:SMwSR
X-ORIGINAL-URL:https://northolt.org
X-WR-CALDESC:Events for SMwSR
BEGIN:VTIMEZONE
TZID:Europe/London
BEGIN:DAYLIGHT
TZOFFSETFROM:+0000
TZOFFSETTO:+0100
TZNAME:BST
DTSTART:20180325T010000
END:DAYLIGHT
BEGIN:STANDARD
TZOFFSETFROM:+0100
TZOFFSETTO:+0000
TZNAME:GMT
DTSTART:20181028T010000
END:STANDARD
END:VTIMEZONE
BEGIN:VEVENT
DTSTART;TZID=Europe/London:20180909T100000
DTEND;TZID=Europe/London:20180909T110000
DTSTAMP:20260425T010518
CREATED:20180429T133504Z
LAST-MODIFIED:20180904T080731Z
UID:1769-1536487200-1536490800@northolt.org
SUMMARY:St Mary's Patronal Service
DESCRIPTION:Join us at 10am on the 9th of September as we remember St Mary\, our patron saint.  We’ll be celebrating further after the service with a bring and share lunch in the Memorial Hall\, so please do join us for that whether you have brought anything to share or not.
URL:https://northolt.org/event/communion-service-with-childrens-church-7/
LOCATION:St Mary’s Church\, Ealing Road\, Northolt\, UB5 6AA\, United Kingdom
CATEGORIES:Worship
END:VEVENT
END:VCALENDAR