BEGIN:VCALENDAR
VERSION:2.0
PRODID:-//SMwSR - ECPv5.4.0.2//NONSGML v1.0//EN
CALSCALE:GREGORIAN
METHOD:PUBLISH
X-WR-CALNAME:SMwSR
X-ORIGINAL-URL:https://northolt.org
X-WR-CALDESC:Events for SMwSR
BEGIN:VTIMEZONE
TZID:Europe/London
BEGIN:DAYLIGHT
TZOFFSETFROM:+0000
TZOFFSETTO:+0100
TZNAME:BST
DTSTART:20170326T010000
END:DAYLIGHT
BEGIN:STANDARD
TZOFFSETFROM:+0100
TZOFFSETTO:+0000
TZNAME:GMT
DTSTART:20171029T010000
END:STANDARD
END:VTIMEZONE
BEGIN:VEVENT
DTSTART;TZID=Europe/London:20171001T100000
DTEND;TZID=Europe/London:20171001T110000
DTSTAMP:20260425T173822
CREATED:20170225T144316Z
LAST-MODIFIED:20170922T200258Z
UID:1317-1506852000-1506855600@northolt.org
SUMMARY:Harvest Festival - All Age Service
DESCRIPTION:Please join us for our Harvest Festival. We will be collecting food and monetary donations for the Ealing Foodbank to help those more needy than ourselves while we celebrate God’s harvest. \n 
URL:https://northolt.org/event/all-age-service-8/
LOCATION:St Mary’s Church\, Ealing Road\, Northolt\, UB5 6AA\, United Kingdom
CATEGORIES:Worship
END:VEVENT
END:VCALENDAR