BEGIN:VCALENDAR
VERSION:2.0
PRODID:-//SMwSR - ECPv5.4.0.2//NONSGML v1.0//EN
CALSCALE:GREGORIAN
METHOD:PUBLISH
X-WR-CALNAME:SMwSR
X-ORIGINAL-URL:https://northolt.org
X-WR-CALDESC:Events for SMwSR
BEGIN:VTIMEZONE
TZID:Europe/London
BEGIN:DAYLIGHT
TZOFFSETFROM:+0000
TZOFFSETTO:+0100
TZNAME:BST
DTSTART:20170326T010000
END:DAYLIGHT
BEGIN:STANDARD
TZOFFSETFROM:+0100
TZOFFSETTO:+0000
TZNAME:GMT
DTSTART:20171029T010000
END:STANDARD
END:VTIMEZONE
BEGIN:VEVENT
DTSTART;TZID=Europe/London:20170402T100000
DTEND;TZID=Europe/London:20170402T110000
DTSTAMP:20260426T002328
CREATED:20170225T143119Z
LAST-MODIFIED:20170225T143119Z
UID:1305-1491127200-1491130800@northolt.org
SUMMARY:All Age Service
DESCRIPTION:On the first Sunday of every month at St Mary’s\, we all meet together for around an hour. This means that our Children’s Church are in St Mary’s with everyone else for the whole service\, rather than meeting together separately. \nThis is a shorter communion service that aims to involve everyone\, with a simpler message to help us think\, an activity or two to help us engage and our normal singing and celebration of communion.
URL:https://northolt.org/event/all-age-service-2/
LOCATION:St Mary’s Church\, Ealing Road\, Northolt\, UB5 6AA\, United Kingdom
CATEGORIES:Worship
END:VEVENT
BEGIN:VEVENT
DTSTART;TZID=Europe/London:20170402T113000
DTEND;TZID=Europe/London:20170402T120000
DTSTAMP:20260426T002328
CREATED:20170327T155630Z
LAST-MODIFIED:20170327T155630Z
UID:1363-1491132600-1491134400@northolt.org
SUMMARY:Annual Meeting (APCM)
DESCRIPTION:After the united service grab a drink and sit back down for a time of celebration of the year gone by\, a chance to ask questions of any of the annual reports and to think together about the coming year. \nAt this meeting we will also be voting and appointing members to out PCC\, Deanery Synod and Church Wardens.
URL:https://northolt.org/event/annual-meeting-apcm/
LOCATION:St Richard’s\, Sussex Crescent\, Northolt\, UB5 4DR\, United Kingdom
END:VEVENT
END:VCALENDAR